BEGIN:VCALENDAR
VERSION:2.0
PRODID:-//Grunin Center for the Arts - ECPv6.6.4.2//NONSGML v1.0//EN
CALSCALE:GREGORIAN
METHOD:PUBLISH
X-WR-CALNAME:Grunin Center for the Arts
X-ORIGINAL-URL:https://www.grunincenter.org
X-WR-CALDESC:Events for Grunin Center for the Arts
REFRESH-INTERVAL;VALUE=DURATION:PT1H
X-Robots-Tag:noindex
X-PUBLISHED-TTL:PT1H
BEGIN:VTIMEZONE
TZID:America/New_York
BEGIN:DAYLIGHT
TZOFFSETFROM:-0500
TZOFFSETTO:-0400
TZNAME:EDT
DTSTART:20250309T070000
END:DAYLIGHT
BEGIN:STANDARD
TZOFFSETFROM:-0400
TZOFFSETTO:-0500
TZNAME:EST
DTSTART:20251102T060000
END:STANDARD
END:VTIMEZONE
BEGIN:VEVENT
DTSTART;TZID=America/New_York:20251018T140000
DTEND;TZID=America/New_York:20251018T140000
DTSTAMP:20260420T143200
CREATED:20250624T160057Z
LAST-MODIFIED:20251010T182851Z
UID:10000527-1760796000-1760796000@www.grunincenter.org
SUMMARY:Dracula
DESCRIPTION:  \nGet Tickets \nBlack Box Theater\n(Building 11B)\nAdults $24\, Seniors $22\nGeneral Admission Seating \n   \nAbout the Show\nThis new adaptation restores the suspense and seduction of Bram Stoker’s classic novel to the stage. As Count Dracula begins to exert his will upon the residents of London\, they try to piece together the clues of his appearances—in a valiant attempt to save themselves from a hideous fate. Rich with both humor and horror\, this play paints a wickedly theatrical picture of Stoker’s famous vampire. \nPlease be advised that special effects\, including stage blood\, simulated fog\, and simulated fire/smoke\, will appear in this production.  \nPerformances\nFriday\, October 17\, 2025        7:30 PM\nSaturday\, October 18\, 2025    2:00 PM\nSaturday\, October 18\, 2025    7:30 PM\nSunday\, October 19\, 2025      2:00 PM \nFriday\, October 24\, 2025        7:30 PM\nSaturday\, October 25\, 2025    2:00 PM\nSaturday\, October 25\, 2025    7:30 PM\nSunday\, October 26\, 2025      2:00 PM \nCast\nRenfield: Brendan Keffner\nMina: Taylor Frisco\nLucy: Hope Kobus\nHarker: Matt Pritchet\nSeward: Zachary Pich\nDracula: Jeff Bodnar\nVan Helsing: Charles Sullivan\nVixen/Maid: Sophia Gallegos\nVixen/Maid: Tess Nunan\nAttendant: Zach Zabarsky\nAttendant: Dave Robbins\nAttendant: Sean Collins \n  \nAbout the OCC Repertory Theater Company\nUnder the direction of Performing Arts Program Chair Paul Chalakani\, the mission of the OCC/REP is to create opportunities for college and community participation in various rich and diverse theatrical experiences. The Company seeks to engage\, entertain\, inspire\, and educate to enhance the cultural life of Ocean County College and the surrounding communities. The OCC/REP provides OCC students\, faculty\, staff\, and residents of neighboring communities the opportunity to attend and/or participate in quality performances of theatrical works – musicals and plays\, classical and modern\, traditional and experimental\, through a well-balanced theatrical season. Additionally\, the OCC/REP provides an environment for students of our performing arts program to apply what they are learning in a collaborative and encouraging format. The OCC/REP celebrates the power of the theatre to illuminate and mirror the human experience. \nThe OCC Repertory Theatre Company is funded\, in part\, by the Ocean County College Foundation. \nShare This:
URL:https://www.grunincenter.org/event/dracula/2025-10-18/1/
CATEGORIES:OCC Repertory Theatre Co.
ATTACH;FMTTYPE=image/jpeg:https://www.grunincenter.org/wp-content/uploads/2025/06/Dracula-1920x1080-1.jpg
END:VEVENT
BEGIN:VEVENT
DTSTART;TZID=America/New_York:20251018T190000
DTEND;TZID=America/New_York:20251018T190000
DTSTAMP:20260420T143200
CREATED:20250624T160025Z
LAST-MODIFIED:20250714T162354Z
UID:10000499-1760814000-1760814000@www.grunincenter.org
SUMMARY:Cécilia
DESCRIPTION:  \nGet Tickets \nGia Maione Prima Foundation Studio Theatre\n(Building 12)\nTickets $32 \n \nAbout the Event\nTraditional music that causes a wonderful stir and fills to overflowing at every venue – that is Cécilia! Widely recognized as three of Canada’s finest musicians\, it is a pleasure to see how much enjoyment Timi Turmel\, Erin Leahy\, and Louis Schryer find in playing together. While honoring their heritage as Cécilia\, their music-making has an undeniably fresh and high-spirited sound. \n \nThey bring together the best of many musical worlds in their explorations of traditional\, Celtic\, and Québécois music. Every one of their pieces is skillfully arranged and highlighted with influences from contemporary\, classical\, jazz\, and swing styles. Cécilia’s recent debut album Accent is an impressive offering full of vibrant rhythms and melodies\, all resonating with a unique warmth and richness of expression. \nEach performance by Cécilia is a call to come out and share\, not only in the joy of three dedicated musicians making music together\, but also in creating a unique and memorable musical experience with Timi\, Erin\, and Louis. You’ll find yourself with a smile that lasts long after the final notes of Cécilia’s accordion\, piano\, and violin have melted away. \nThis event is made possible through support from the Quebec Delegation General – New York.  \nShare This:
URL:https://www.grunincenter.org/event/cecilia/
CATEGORIES:Alumni,Grunin Presents,Membership Discount Eligible
ATTACH;FMTTYPE=image/jpeg:https://www.grunincenter.org/wp-content/uploads/2025/04/Cecilia-1920X1080-Feature.jpg
END:VEVENT
BEGIN:VEVENT
DTSTART;TZID=America/New_York:20251018T193000
DTEND;TZID=America/New_York:20251018T193000
DTSTAMP:20260420T143200
CREATED:20250624T160057Z
LAST-MODIFIED:20251010T182851Z
UID:10000528-1760815800-1760815800@www.grunincenter.org
SUMMARY:Dracula
DESCRIPTION:  \nGet Tickets \nBlack Box Theater\n(Building 11B)\nAdults $24\, Seniors $22\nGeneral Admission Seating \n   \nAbout the Show\nThis new adaptation restores the suspense and seduction of Bram Stoker’s classic novel to the stage. As Count Dracula begins to exert his will upon the residents of London\, they try to piece together the clues of his appearances—in a valiant attempt to save themselves from a hideous fate. Rich with both humor and horror\, this play paints a wickedly theatrical picture of Stoker’s famous vampire. \nPlease be advised that special effects\, including stage blood\, simulated fog\, and simulated fire/smoke\, will appear in this production.  \nPerformances\nFriday\, October 17\, 2025        7:30 PM\nSaturday\, October 18\, 2025    2:00 PM\nSaturday\, October 18\, 2025    7:30 PM\nSunday\, October 19\, 2025      2:00 PM \nFriday\, October 24\, 2025        7:30 PM\nSaturday\, October 25\, 2025    2:00 PM\nSaturday\, October 25\, 2025    7:30 PM\nSunday\, October 26\, 2025      2:00 PM \nCast\nRenfield: Brendan Keffner\nMina: Taylor Frisco\nLucy: Hope Kobus\nHarker: Matt Pritchet\nSeward: Zachary Pich\nDracula: Jeff Bodnar\nVan Helsing: Charles Sullivan\nVixen/Maid: Sophia Gallegos\nVixen/Maid: Tess Nunan\nAttendant: Zach Zabarsky\nAttendant: Dave Robbins\nAttendant: Sean Collins \n  \nAbout the OCC Repertory Theater Company\nUnder the direction of Performing Arts Program Chair Paul Chalakani\, the mission of the OCC/REP is to create opportunities for college and community participation in various rich and diverse theatrical experiences. The Company seeks to engage\, entertain\, inspire\, and educate to enhance the cultural life of Ocean County College and the surrounding communities. The OCC/REP provides OCC students\, faculty\, staff\, and residents of neighboring communities the opportunity to attend and/or participate in quality performances of theatrical works – musicals and plays\, classical and modern\, traditional and experimental\, through a well-balanced theatrical season. Additionally\, the OCC/REP provides an environment for students of our performing arts program to apply what they are learning in a collaborative and encouraging format. The OCC/REP celebrates the power of the theatre to illuminate and mirror the human experience. \nThe OCC Repertory Theatre Company is funded\, in part\, by the Ocean County College Foundation. \nShare This:
URL:https://www.grunincenter.org/event/dracula/2025-10-18/2/
CATEGORIES:OCC Repertory Theatre Co.
ATTACH;FMTTYPE=image/jpeg:https://www.grunincenter.org/wp-content/uploads/2025/06/Dracula-1920x1080-1.jpg
END:VEVENT
END:VCALENDAR