BEGIN:VCALENDAR
VERSION:2.0
PRODID:-//Grunin Center for the Arts - ECPv6.6.4.2//NONSGML v1.0//EN
CALSCALE:GREGORIAN
METHOD:PUBLISH
X-WR-CALNAME:Grunin Center for the Arts
X-ORIGINAL-URL:https://www.grunincenter.org
X-WR-CALDESC:Events for Grunin Center for the Arts
REFRESH-INTERVAL;VALUE=DURATION:PT1H
X-Robots-Tag:noindex
X-PUBLISHED-TTL:PT1H
BEGIN:VTIMEZONE
TZID:America/New_York
BEGIN:DAYLIGHT
TZOFFSETFROM:-0500
TZOFFSETTO:-0400
TZNAME:EDT
DTSTART:20260308T070000
END:DAYLIGHT
BEGIN:STANDARD
TZOFFSETFROM:-0400
TZOFFSETTO:-0500
TZNAME:EST
DTSTART:20261101T060000
END:STANDARD
END:VTIMEZONE
BEGIN:VEVENT
DTSTART;TZID=America/New_York:20260419T150000
DTEND;TZID=America/New_York:20260419T150000
DTSTAMP:20260421T061025
CREATED:20260115T181525Z
LAST-MODIFIED:20260413T134008Z
UID:10000581-1776610800-1776610800@www.grunincenter.org
SUMMARY:The Duprees In Concert with special guest Who's Johnny
DESCRIPTION:  \nGet Tickets \nMain Stage\n(Building 11A)\nOrchestra $65 – $55\,\nMezzanine $55 – $45 \n \n  \n  \nAbout the show\nThe Duprees are known world over for their romantic interpretations of some of the most beautiful love songs ever written. They have made a career of giving new life to Big Band Standards and Old Hits. \nIf you take the Glenn Miller arrangements of the 1940’s along with the tunes of Joni James\, Frank Sinatra\, Nat King Cole\, and Jo Stafford\, and add the vocal harmonies of Tom Petillo\, Shawn Stevens\, and Jimmy Spinelli\, and put them together\, you have the sounds of The Duprees. \n“You Belong To Me”\, “Have You Heard”\, “My Own True Love”\, and “Gone With The Wind” are just some of the hit songs you’ll hear. Opening the show will be Who’s Johnny\, doing some of the best a cappella songs you love to hear. \nPresented by Gene DiNapoli Presents \nEvents marked as “Rental Presenter” are presented by a Rental Presenter – an individual and/or organization renting our theater. The presenter determines ticket prices\, program content\, and other event details. \nShare This:
URL:https://www.grunincenter.org/event/the-duprees-in-concert-with-special-guest-whos-johnny/
CATEGORIES:Outside Presenter
ATTACH;FMTTYPE=image/jpeg:https://www.grunincenter.org/wp-content/uploads/2026/01/Duprees-2.jpg
END:VEVENT
END:VCALENDAR