BEGIN:VCALENDAR
VERSION:2.0
PRODID:-//Grunin Center for the Arts - ECPv6.6.4.2//NONSGML v1.0//EN
CALSCALE:GREGORIAN
METHOD:PUBLISH
X-ORIGINAL-URL:https://www.grunincenter.org
X-WR-CALDESC:Events for Grunin Center for the Arts
REFRESH-INTERVAL;VALUE=DURATION:PT1H
X-Robots-Tag:noindex
X-PUBLISHED-TTL:PT1H
BEGIN:VTIMEZONE
TZID:America/New_York
BEGIN:DAYLIGHT
TZOFFSETFROM:-0500
TZOFFSETTO:-0400
TZNAME:EDT
DTSTART:20250309T070000
END:DAYLIGHT
BEGIN:STANDARD
TZOFFSETFROM:-0400
TZOFFSETTO:-0500
TZNAME:EST
DTSTART:20251102T060000
END:STANDARD
END:VTIMEZONE
BEGIN:VEVENT
DTSTART;TZID=America/New_York:20251108T190000
DTEND;TZID=America/New_York:20251108T190000
DTSTAMP:20260421T163404
CREATED:20250624T160027Z
LAST-MODIFIED:20251024T151923Z
UID:10000501-1762628400-1762628400@www.grunincenter.org
SUMMARY:So Good! The Neil Diamond Experience starring Robert Neary
DESCRIPTION:  \nThis show is currently SOLD OUT. To join the Wait List for tickets\, call the Box Office at 732-255-0500. \nMain Stage\n(Building 11A)\nOrchestra $45\, Mezzanine $40 \n \nAbout the Event\nBroadway\, television\, and film star Robert Neary creates an unforgettable tribute to one of the greatest recording artists in history. Two hours packed with 24 classic hit songs\, nostalgia\, multimedia\, stories\, trivia\, and a finale that is pure Broadway caliber\, this is a true immersion into Neil Diamond’s life and career. Critical praise all across the internet and social media has called this show “the most authentic and professional tribute to Neil Diamond and delivers nothing short of a true Neil Diamond concert experience.” \n \nWith over 40 years in the entertainment business\, Robert has 3 Broadway leads and over 60 major guest-starring television and film roles to his credit. He created this incredible show in 2019 and perfected it during the pandemic along with NY’s premier band\, The Mystic. Now in its fifth year\, “So Good! The Neil Diamond Experience” is selling out venues all over the US\, and there is no end in sight! \nShare This:
URL:https://www.grunincenter.org/event/so-good/
CATEGORIES:Alumni,Grunin Presents,Membership Discount Eligible
ATTACH;FMTTYPE=image/jpeg:https://www.grunincenter.org/wp-content/uploads/2025/06/So-Good-1920X1080-Feature-soldout.jpg
END:VEVENT
END:VCALENDAR