BEGIN:VCALENDAR
VERSION:2.0
PRODID:-//Grunin Center for the Arts - ECPv6.6.4.2//NONSGML v1.0//EN
CALSCALE:GREGORIAN
METHOD:PUBLISH
X-ORIGINAL-URL:https://www.grunincenter.org
X-WR-CALDESC:Events for Grunin Center for the Arts
REFRESH-INTERVAL;VALUE=DURATION:PT1H
X-Robots-Tag:noindex
X-PUBLISHED-TTL:PT1H
BEGIN:VTIMEZONE
TZID:America/New_York
BEGIN:DAYLIGHT
TZOFFSETFROM:-0500
TZOFFSETTO:-0400
TZNAME:EDT
DTSTART:20250309T070000
END:DAYLIGHT
BEGIN:STANDARD
TZOFFSETFROM:-0400
TZOFFSETTO:-0500
TZNAME:EST
DTSTART:20251102T060000
END:STANDARD
END:VTIMEZONE
BEGIN:VEVENT
DTSTART;TZID=America/New_York:20250807T100000
DTEND;TZID=America/New_York:20250807T100000
DTSTAMP:20260420T072854
CREATED:20250716T143629Z
LAST-MODIFIED:20250716T143629Z
UID:10000534-1754560800-1754560800@www.grunincenter.org
SUMMARY:DJ Willy Wow!
DESCRIPTION:  \nRegister for Tickets \nGateway Lecture Hall\n(Building 101)\nTickets Free\,\nAdvance Registration Required \n \nAbout the Event\nJoin GRAMMY®-nominated children’s songwriter\, music producer\, voice-over artist\, and radio personality\, DJ Willy Wow! for an interactive musical journey and dance party. DJ Willy Wow! uses his music to share about working together\, being kind\, and having fun. Whether you’re 1 or 101\, get ready for DJ Willy Wow! to spin some epic tunes and\, most importantly\, get you off your feet! \nThis general admission show is presented for summer camp groups. A limited number of tickets are available to the public for free with advance registration. \nThis event is made possible through the support of the Wintrode Family Foundation. \n \nShare This:
URL:https://www.grunincenter.org/event/dj-willy-wow/
CATEGORIES:CAMP
ATTACH;FMTTYPE=image/jpeg:https://www.grunincenter.org/wp-content/uploads/2025/07/DJWW-1920x1080-1.jpg
END:VEVENT
END:VCALENDAR