BEGIN:VCALENDAR
VERSION:2.0
PRODID:-//Grunin Center for the Arts - ECPv6.6.4.2//NONSGML v1.0//EN
CALSCALE:GREGORIAN
METHOD:PUBLISH
X-WR-CALNAME:Grunin Center for the Arts
X-ORIGINAL-URL:https://www.grunincenter.org
X-WR-CALDESC:Events for Grunin Center for the Arts
REFRESH-INTERVAL;VALUE=DURATION:PT1H
X-Robots-Tag:noindex
X-PUBLISHED-TTL:PT1H
BEGIN:VTIMEZONE
TZID:America/New_York
BEGIN:DAYLIGHT
TZOFFSETFROM:-0500
TZOFFSETTO:-0400
TZNAME:EDT
DTSTART:20260308T070000
END:DAYLIGHT
BEGIN:STANDARD
TZOFFSETFROM:-0400
TZOFFSETTO:-0500
TZNAME:EST
DTSTART:20261101T060000
END:STANDARD
END:VTIMEZONE
BEGIN:VEVENT
DTSTART;TZID=America/New_York:20260412T150000
DTEND;TZID=America/New_York:20260412T150000
DTSTAMP:20260421T014619
CREATED:20251028T180014Z
LAST-MODIFIED:20260409T122646Z
UID:10000558-1776006000-1776006000@www.grunincenter.org
SUMMARY:Krakauer & Tagg’s Good Vibes Explosion
DESCRIPTION:  \nGet Tickets \nMain Stage\n(Building 11A)\nTickets $39\n \n \nAbout the Event\nKrakauer & Tagg’s Good Vibes Explosion is a touring project that was born in the midst of the pandemic lockdowns of 2020. Conceived and created by Grammy-nominated “ebullient clarinet wizard” (Time Out NY) David Krakauer and multi-instrumentalist/producer Kathleen Tagg\, this project showcases a multi-generational/high-octane group of collaborators from very different backgrounds\, hailing from the USA\, Canada\, Iran and South Africa. \n \nTogether they embrace the diversity of today’s America through their unique take on a multitude of traditional roots musics\, bringing their enormous musical and cultural diversity to the project and collaborating to create powerful original material. Old forms are celebrated both by bringing them into a 21st century sound-world and expanding the context to make room for new stories. \nFeatured on shows such as NPR’s Morning Edition and Radio France International (RFI) Sessions Live\, this project was created in response to the current climate of polarization that pervades our daily lives. In these uncertain times\, it’s a chance to come together to celebrate our common humanity and foster joy\, positivity and togetherness. \nTheir album\, Mazel Tov Cocktail Party\, has received rave reviews across North America and Europe: \nFrance’s Le Monde says: “a breath of fresh air\, an incentive to dance…In the face of the overwhelming negativity and alarming rise of hatred and intolerance in today’s world\, let’s breathe and dance together…More than a suggestion\, an injunction” \nRoots World says: “An informal cocktail party typically lasts a few hours\, and this one ends all too soon. 5 stars” \nThey have performed at venues that include Paris’ famed 2000-seater Théâtre du Châtelet and Vienna’s Porgy & Bess Club\, and in venues large and small in France\, Holland\, Austria and the USA. \nKrakauer’s klezmer-influenced clarinet leads the way along with Tagg’s quirky keys\, electronics\, electric cello & production; Martin Shamoonpour’s high-energy contributions on daf\, riq\, darbuka\, jaw harp and flutes; Jerome Harris’ driving bass lines and vocals; rapper and singer Sarah MK’s evocative vocals in Québécois French and English; and Yoshie Fruchter’s wailing oud and electric guitar. In addition\, electronic beats by Jeremy Flower\, Socalled and Selwa Abd (aka Bergsonist) round out the sound for layering with the live performance.The project was initially created in isolation\, individually and remotely in living rooms and basements in New York\, upstate NY and Canada- with band members meeting in person for the first time a year after the project was recorded and the music videos were made. \nTheir influences are global\, but the sound they create collectively has produced something uniquely their own. Familiar dance forms such as Polka or Square Dance never sounded this way before\, with hand drumming\, propulsive electronic beats\, lyrics calling for catharsis and positivity\, deep grooves and Krakauer’s wailing clarinet crying out for us to join together\, celebrate and feel the power in our aliveness. \nDavid Krakauer\, clarinet and vocals\nKathleen Tagg\, producer\, piano\, keyboard\, accordion\, cello and sampler/electronics (Bella’s Calypso)\nMelanie Scholtz\, vocals\nYoshie Fruchter\, electric guitar and oud\nJerome Harris\, electric bass and vocals\nMartin Shamoonpour\, daf and jaw’s harp\nJohn Hadfield – Drums \nShare This:
URL:https://www.grunincenter.org/event/krakauer-taggs-good-vibes-explosion/
CATEGORIES:Grunin Presents
ATTACH;FMTTYPE=image/jpeg:https://www.grunincenter.org/wp-content/uploads/2025/10/GVE-1920x1080-Feature.jpg
END:VEVENT
BEGIN:VEVENT
DTSTART;TZID=America/New_York:20260417T140000
DTEND;TZID=America/New_York:20260417T140000
DTSTAMP:20260421T014619
CREATED:20251028T180032Z
LAST-MODIFIED:20251120T213524Z
UID:10000559-1776434400-1776434400@www.grunincenter.org
SUMMARY:Arturo Delmoni & Nina Siniakova
DESCRIPTION:  \nGet Tickets\n \n\nBösendorfer Recital Room\n(Building 11A)\nTickets $10\nGeneral Admission Seating \n \nAbout the Event\nCelebrate the  spring with an uplifting concert featuring music from beloved classics to easy listening and jazz. The power duo of celebrated violinist\, concertmaster of New York City Ballet Arturo Delmoni and internationally recognized composer and pianist Nina Siniakova will fill the afternoon with warmth\, joy\, and the spirit of renewal—guaranteed to leave you smiling. \nLearn more about the performers on Spotify or visit www.ninasiniakova.com. \nThis event is funded by the Ocean County College Foundation. \nShare This:
URL:https://www.grunincenter.org/event/arturo-delmoni-nina-siniakova/
CATEGORIES:OCC Afternoon Recital Series
ATTACH;FMTTYPE=image/jpeg:https://www.grunincenter.org/wp-content/uploads/2025/10/DelmoniSiniakova-2026-1920x1080-Feature.jpg
END:VEVENT
BEGIN:VEVENT
DTSTART;TZID=America/New_York:20260418T193000
DTEND;TZID=America/New_York:20260418T193000
DTSTAMP:20260421T014619
CREATED:20251028T180035Z
LAST-MODIFIED:20260303T205241Z
UID:10000560-1776540600-1776540600@www.grunincenter.org
SUMMARY:The Brit Pack - British Invasion and More
DESCRIPTION:  \nGet Tickets \nMain Stage\n(Building 11A)\nOrchestra $38\, Mezzanine $32\n \n \nAbout the Event\nThe Brit Pack – the most authentic British Invasion experience this  side of the Atlantic. Formed in 2011 by British session musicians  based in NYC\, The Brit Pack take their audience on a journey through  a dynamic blend of British classics\, including The Beatles\, Rolling  Stones\, Queen\, David Bowie\, Elton John\, The Who\, Oasis\, Radiohead\,  The Police\, Amy Winehouse and many more. \n \nThe talented band members of The Brit Pack have performed with artists such as Paul McCartney\, Britney Spears\, Elton John\, Chet  Faker\, Tom Rush and Mark Hudson among many others\, and enjoy  delivering a high-energy show to their audiences. \nVocals\, Guitar\, Keys / Matt Nakoa (US)\nGuitar\, Vocals / Mark Sidney Johnson (UK)\nBass\, Vocals / Bryan Percivall (US)\nDrums\, Vocals / Will Haywood Smith (UK) \nShare This:
URL:https://www.grunincenter.org/event/the-brit-pack/
CATEGORIES:Grunin Presents
ATTACH;FMTTYPE=image/jpeg:https://www.grunincenter.org/wp-content/uploads/2025/10/The-Brit-Pack-1920x1080-Feature.jpg
END:VEVENT
END:VCALENDAR